Package: MMUPHin
Version: 1.18.1
Command: E:\biocbuild\bbs-3.19-bioc\R\bin\R.exe CMD check --no-multiarch --install=check:MMUPHin.install-out.txt --library=E:\biocbuild\bbs-3.19-bioc\R\library --no-vignettes --timings MMUPHin_1.18.1.tar.gz
StartedAt: 2024-10-17 03:29:01 -0400 (Thu, 17 Oct 2024)
EndedAt: 2024-10-17 03:31:07 -0400 (Thu, 17 Oct 2024)
EllapsedTime: 126.2 seconds
RetCode: 0
Status: OK
CheckDir: MMUPHin.Rcheck
Warnings: 0