Package: MMUPHin
Version: 1.18.1
Command: /Library/Frameworks/R.framework/Resources/bin/R CMD INSTALL MMUPHin
StartedAt: 2024-10-16 16:19:05 -0400 (Wed, 16 Oct 2024)
EndedAt: 2024-10-16 16:19:24 -0400 (Wed, 16 Oct 2024)
EllapsedTime: 18.4 seconds
RetCode: 0
Status: OK