Package: MMUPHin Version: 1.18.1 Maintainer: Siyuan MA MaintainerEmail: syma.research at gmail.com git_url: https://git.bioconductor.org/packages/MMUPHin git_branch: RELEASE_3_19 git_last_commit: 4729c9c git_last_commit_date: 2024-05-18 20:49:42 -0400 (Sat, 18 May 2024)