Package: MLInterfaces
Version: 1.84.0
Command: /Library/Frameworks/R.framework/Resources/bin/R CMD INSTALL MLInterfaces
StartedAt: 2024-10-16 16:21:25 -0400 (Wed, 16 Oct 2024)
EndedAt: 2024-10-16 16:22:38 -0400 (Wed, 16 Oct 2024)
EllapsedTime: 72.8 seconds
RetCode: 0
Status: OK