Package: MLInterfaces
Version: 1.84.0
Command: /Library/Frameworks/R.framework/Resources/bin/R CMD check --install=check:MLInterfaces.install-out.txt --library=/Library/Frameworks/R.framework/Resources/library --no-vignettes --timings MLInterfaces_1.84.0.tar.gz
StartedAt: 2024-10-17 08:56:18 -0400 (Thu, 17 Oct 2024)
EndedAt: 2024-10-17 09:07:22 -0400 (Thu, 17 Oct 2024)
EllapsedTime: 664.4 seconds
RetCode: 0
Status: WARNINGS
CheckDir: MLInterfaces.Rcheck
Warnings: 1