Package: MIRit
Version: 1.0.0
Maintainer: Jacopo Ronchi
MaintainerEmail: jacopo.ronchi at unimib.it
git_url: https://git.bioconductor.org/packages/MIRit
git_branch: RELEASE_3_19
git_last_commit: ed1b3ba
git_last_commit_date: 2024-04-30 11:53:58 -0400 (Tue, 30 Apr 2024)