Package: MICSQTL
Version: 1.2.2
Command: /home/biocbuild/bbs-3.19-bioc/R/bin/R CMD INSTALL MICSQTL
StartedAt: 2024-10-16 16:44:01 -0400 (Wed, 16 Oct 2024)
EndedAt: 2024-10-16 16:44:26 -0400 (Wed, 16 Oct 2024)
EllapsedTime: 24.3 seconds
RetCode: 0
Status: OK