Package: MICSQTL Version: 1.2.2 Command: /home/biocbuild/R/R-beta-2024-04-15_r86425/bin/R CMD INSTALL MICSQTL StartedAt: 2024-05-08 21:03:54 -0000 (Wed, 08 May 2024) EndedAt: 2024-05-08 21:04:29 -0000 (Wed, 08 May 2024) EllapsedTime: 34.4 seconds RetCode: 0 Status: OK