Package: MGnifyR
Version: 1.0.0
Command: /home/biocbuild/R/R-beta-2024-04-15_r86425/bin/R CMD INSTALL MGnifyR
StartedAt: 2024-05-08 20:59:49 -0000 (Wed, 08 May 2024)
EndedAt: 2024-05-08 21:00:39 -0000 (Wed, 08 May 2024)
EllapsedTime: 50.4 seconds
RetCode: 0
Status: OK