Package: MGnifyR
Version: 1.0.0
Command: /Library/Frameworks/R.framework/Resources/bin/R CMD check --install=check:MGnifyR.install-out.txt --library=/Library/Frameworks/R.framework/Resources/library --no-vignettes --timings MGnifyR_1.0.0.tar.gz
StartedAt: 2024-10-18 03:47:58 -0400 (Fri, 18 Oct 2024)
EndedAt: 2024-10-18 04:00:19 -0400 (Fri, 18 Oct 2024)
EllapsedTime: 740.5 seconds
RetCode: 0
Status: OK
CheckDir: MGnifyR.Rcheck
Warnings: 0