Package: MGFM Version: 1.38.0 Maintainer: Khadija El Amrani MaintainerEmail: khadija.el-amrani at charite.de git_url: https://git.bioconductor.org/packages/MGFM git_branch: RELEASE_3_19 git_last_commit: e022eab git_last_commit_date: 2024-04-30 10:38:57 -0400 (Tue, 30 Apr 2024)