Package: MEIGOR
Version: 1.38.0
Maintainer: Jose A. Egea
MaintainerEmail: josea.egea at gmail.com
git_url: https://git.bioconductor.org/packages/MEIGOR
git_branch: RELEASE_3_19
git_last_commit: 1dd6c7a
git_last_commit_date: 2024-04-30 11:54:46 -0400 (Tue, 30 Apr 2024)