Package: MBttest
Version: 1.32.0
Maintainer: Yuan-De Tan
MaintainerEmail: tanyuande at gmail.com
git_url: https://git.bioconductor.org/packages/MBttest
git_branch: RELEASE_3_19
git_last_commit: 12ba5b3
git_last_commit_date: 2024-04-30 11:06:43 -0400 (Tue, 30 Apr 2024)