Package: MBAmethyl
Version: 1.38.0
Command: /home/biocbuild/bbs-3.19-bioc/R/bin/R CMD check --install=check:MBAmethyl.install-out.txt --library=/home/biocbuild/bbs-3.19-bioc/R/site-library --timings MBAmethyl_1.38.0.tar.gz
StartedAt: 2024-10-17 02:03:30 -0400 (Thu, 17 Oct 2024)
EndedAt: 2024-10-17 02:03:52 -0400 (Thu, 17 Oct 2024)
EllapsedTime: 22.0 seconds
RetCode: 0
Status: OK
CheckDir: MBAmethyl.Rcheck
Warnings: 0