Package: MBAmethyl
Version: 1.38.0
Command: /home/biocbuild/bbs-3.19-bioc/R/bin/R CMD build --keep-empty-dirs --no-resave-data MBAmethyl
StartedAt: 2024-10-16 19:17:49 -0400 (Wed, 16 Oct 2024)
EndedAt: 2024-10-16 19:17:59 -0400 (Wed, 16 Oct 2024)
EllapsedTime: 10.0 seconds
RetCode: 0
Status: OK
PackageFile: MBAmethyl_1.38.0.tar.gz
PackageFileSize: 88.1 <A href="http://en.wikipedia.org/wiki/KiB" target="_blank">KiB</A>