Package: MBAmethyl
Version: 1.38.0
Command: /Library/Frameworks/R.framework/Resources/bin/R CMD check --install=check:MBAmethyl.install-out.txt --library=/Library/Frameworks/R.framework/Resources/library --no-vignettes --timings MBAmethyl_1.38.0.tar.gz
StartedAt: 2024-10-17 07:42:27 -0400 (Thu, 17 Oct 2024)
EndedAt: 2024-10-17 07:43:12 -0400 (Thu, 17 Oct 2024)
EllapsedTime: 44.3 seconds
RetCode: 0
Status: OK
CheckDir: MBAmethyl.Rcheck
Warnings: 0