Package: MACSQuantifyR
Version: 1.18.0
Maintainer: Raphaël Bonnet
MaintainerEmail: raphael.bonnet at univ-cotedazur.fr
git_url: https://git.bioconductor.org/packages/MACSQuantifyR
git_branch: RELEASE_3_19
git_last_commit: 4207ae9
git_last_commit_date: 2024-04-30 11:18:53 -0400 (Tue, 30 Apr 2024)