##############################################################################
##############################################################################
###
### Running command:
###
###   chmod a+r LinkHD -R && E:\biocbuild\bbs-3.19-bioc\R\bin\R.exe CMD build --keep-empty-dirs --no-resave-data LinkHD
###
##############################################################################
##############################################################################


* checking for file 'LinkHD/DESCRIPTION' ... OK
* preparing 'LinkHD':
* checking DESCRIPTION meta-information ... OK
* installing the package to build vignettes
* creating vignettes ... OK
* checking for LF line-endings in source and make files and shell scripts
* checking for empty or unneeded directories
* building 'LinkHD_1.18.0.tar.gz'