Package: LinkHD Version: 1.18.0 Command: rm -rf LinkHD.buildbin-libdir && mkdir LinkHD.buildbin-libdir && E:\biocbuild\bbs-3.19-bioc\R\bin\R.exe CMD INSTALL --build --library=LinkHD.buildbin-libdir LinkHD_1.18.0.tar.gz StartedAt: 2024-10-17 08:02:40 -0400 (Thu, 17 Oct 2024) EndedAt: 2024-10-17 08:03:23 -0400 (Thu, 17 Oct 2024) EllapsedTime: 43.5 seconds RetCode: 0 Status: OK PackageFile: LinkHD_1.18.0.zip PackageFileSize: 1.525 <A href="http://en.wikipedia.org/wiki/MiB" target="_blank">MiB</A>