Package: LinkHD
Version: 1.18.0
Command: /home/biocbuild/bbs-3.19-bioc/R/bin/R CMD build --keep-empty-dirs --no-resave-data LinkHD
StartedAt: 2024-10-16 19:11:45 -0400 (Wed, 16 Oct 2024)
EndedAt: 2024-10-16 19:12:41 -0400 (Wed, 16 Oct 2024)
EllapsedTime: 56.1 seconds
RetCode: 0
Status: OK
PackageFile: LinkHD_1.18.0.tar.gz
PackageFileSize: 2.205 <A href="http://en.wikipedia.org/wiki/MiB" target="_blank">MiB</A>