Package: LinkHD
Version: 1.18.0
Command: /Library/Frameworks/R.framework/Resources/bin/R CMD check --install=check:LinkHD.install-out.txt --library=/Library/Frameworks/R.framework/Resources/library --no-vignettes --timings LinkHD_1.18.0.tar.gz
StartedAt: 2024-06-09 21:11:56 -0400 (Sun, 09 Jun 2024)
EndedAt: 2024-06-09 21:15:42 -0400 (Sun, 09 Jun 2024)
EllapsedTime: 225.7 seconds
RetCode: 0
Status: OK
CheckDir: LinkHD.Rcheck
Warnings: 0