Package: LOBSTAHS
Version: 1.30.0
Maintainer: Henry Holm
MaintainerEmail: hholm at whoi.edu
git_url: https://git.bioconductor.org/packages/LOBSTAHS
git_branch: RELEASE_3_19
git_last_commit: c5b570d
git_last_commit_date: 2024-04-30 10:52:17 -0400 (Tue, 30 Apr 2024)