Package: LEA
Version: 3.16.0
Maintainer: Olivier Francois
MaintainerEmail: olivier.francois at grenoble-inp.fr>, Eric Frichot <eric.frichot at gmail.com
git_url: https://git.bioconductor.org/packages/LEA
git_branch: RELEASE_3_19
git_last_commit: 7fc453b
git_last_commit_date: 2024-04-30 10:42:13 -0400 (Tue, 30 Apr 2024)