##############################################################################
##############################################################################
###
### Running command:
###
###   rm -rf LBE.buildbin-libdir && mkdir LBE.buildbin-libdir && E:\biocbuild\bbs-3.19-bioc\R\bin\R.exe CMD INSTALL --build --library=LBE.buildbin-libdir LBE_1.72.0.tar.gz
###
##############################################################################
##############################################################################


* installing *source* package 'LBE' ...
** using staged installation
** R
** data
** inst
** byte-compile and prepare package for lazy loading
** help
*** installing help indices
** building package indices
** installing vignettes
** testing if installed package can be loaded from temporary location
** testing if installed package can be loaded from final location
** testing if installed package keeps a record of temporary installation path
* MD5 sums
packaged installation of 'LBE' as LBE_1.72.0.zip
* DONE (LBE)