Package: LBE
Version: 1.72.0
Command: F:\biocbuild\bbs-3.19-bioc\R\bin\R.exe CMD check --no-multiarch --install=check:LBE.install-out.txt --library=F:\biocbuild\bbs-3.19-bioc\R\library --no-vignettes --timings LBE_1.72.0.tar.gz
StartedAt: 2024-06-27 03:01:08 -0400 (Thu, 27 Jun 2024)
EndedAt: 2024-06-27 03:01:39 -0400 (Thu, 27 Jun 2024)
EllapsedTime: 31.1 seconds
RetCode: 0
Status: OK
CheckDir: LBE.Rcheck
Warnings: 0