Package: LBE
Version: 1.72.0
Command: /Library/Frameworks/R.framework/Resources/bin/R CMD INSTALL LBE
StartedAt: 2024-10-16 15:06:17 -0400 (Wed, 16 Oct 2024)
EndedAt: 2024-10-16 15:06:39 -0400 (Wed, 16 Oct 2024)
EllapsedTime: 21.5 seconds
RetCode: 0
Status: OK