Package: LBE
Version: 1.72.0
Command: rm -rf LBE.buildbin-libdir && mkdir LBE.buildbin-libdir && /Users/biocbuild/BBS/utils/build-universal.sh LBE_1.72.0.tar.gz /Library/Frameworks/R.framework/Resources/bin/R LBE.buildbin-libdir
StartedAt: 2024-10-17 16:27:55 -0400 (Thu, 17 Oct 2024)
EndedAt: 2024-10-17 16:28:01 -0400 (Thu, 17 Oct 2024)
EllapsedTime: 5.4 seconds
RetCode: 0
Status: OK
PackageFile: LBE_1.72.0.tgz
PackageFileSize: 811.8 <A href="http://en.wikipedia.org/wiki/KiB" target="_blank">KiB</A>