Package: LBE
Version: 1.72.0
Command: /home/biocbuild/R/R-beta-2024-04-15_r86425/bin/R CMD check --install=check:LBE.install-out.txt --library=/home/biocbuild/R/R-beta-2024-04-15_r86425/site-library --no-vignettes --timings LBE_1.72.0.tar.gz
StartedAt: 2024-05-09 08:50:18 -0000 (Thu, 09 May 2024)
EndedAt: 2024-05-09 08:50:37 -0000 (Thu, 09 May 2024)
EllapsedTime: 19.1 seconds
RetCode: 0
Status: OK
CheckDir: LBE.Rcheck
Warnings: 0