Package: LBE Version: 1.72.0 Command: /home/biocbuild/R/R-beta-2024-04-15_r86425/bin/R CMD build --keep-empty-dirs --no-resave-data LBE StartedAt: 2024-05-09 01:14:53 -0000 (Thu, 09 May 2024) EndedAt: 2024-05-09 01:14:59 -0000 (Thu, 09 May 2024) EllapsedTime: 6.0 seconds RetCode: 0 Status: OK PackageFile: LBE_1.72.0.tar.gz PackageFileSize: 776.1 <A href="http://en.wikipedia.org/wiki/KiB" target="_blank">KiB</A>