Package: LBE
Version: 1.72.0
Command: /Library/Frameworks/R.framework/Resources/bin/R CMD build --keep-empty-dirs --no-resave-data LBE
StartedAt: 2024-10-17 03:12:17 -0400 (Thu, 17 Oct 2024)
EndedAt: 2024-10-17 03:12:28 -0400 (Thu, 17 Oct 2024)
EllapsedTime: 11.1 seconds
RetCode: 0
Status: OK
PackageFile: LBE_1.72.0.tar.gz
PackageFileSize: 784.1 <A href="http://en.wikipedia.org/wiki/KiB" target="_blank">KiB</A>