Package: KEGGgraph Version: 1.64.0 Command: F:\biocbuild\bbs-3.19-bioc\R\bin\R.exe CMD check --no-multiarch --install=check:KEGGgraph.install-out.txt --library=F:\biocbuild\bbs-3.19-bioc\R\library --no-vignettes --timings KEGGgraph_1.64.0.tar.gz StartedAt: 2024-06-27 02:59:09 -0400 (Thu, 27 Jun 2024) EndedAt: 2024-06-27 03:00:46 -0400 (Thu, 27 Jun 2024) EllapsedTime: 96.9 seconds RetCode: 0 Status: WARNINGS CheckDir: KEGGgraph.Rcheck Warnings: 1