Package: KEGGgraph Version: 1.64.0 Command: /Library/Frameworks/R.framework/Resources/bin/R CMD build --keep-empty-dirs --no-resave-data KEGGgraph StartedAt: 2024-06-09 23:31:27 -0400 (Sun, 09 Jun 2024) EndedAt: 2024-06-09 23:32:29 -0400 (Sun, 09 Jun 2024) EllapsedTime: 62.3 seconds RetCode: 0 Status: OK PackageFile: KEGGgraph_1.64.0.tar.gz PackageFileSize: 1.316 <A href="http://en.wikipedia.org/wiki/MiB" target="_blank">MiB</A>