Package: KEGGgraph
Version: 1.64.0
Command: rm -rf KEGGgraph.buildbin-libdir && mkdir KEGGgraph.buildbin-libdir && /Users/biocbuild/BBS/utils/build-universal.sh KEGGgraph_1.64.0.tar.gz /Library/Frameworks/R.framework/Resources/bin/R KEGGgraph.buildbin-libdir
StartedAt: 2024-06-11 11:47:39 -0400 (Tue, 11 Jun 2024)
EndedAt: 2024-06-11 11:47:56 -0400 (Tue, 11 Jun 2024)
EllapsedTime: 16.5 seconds
RetCode: 0
Status: OK
PackageFile: KEGGgraph_1.64.0.tgz
PackageFileSize: 1.622 <A href="http://en.wikipedia.org/wiki/MiB" target="_blank">MiB</A>