Package: KEGGgraph
Version: 1.64.0
Command: /Library/Frameworks/R.framework/Resources/bin/R CMD INSTALL KEGGgraph
StartedAt: 2024-10-16 15:42:54 -0400 (Wed, 16 Oct 2024)
EndedAt: 2024-10-16 15:43:01 -0400 (Wed, 16 Oct 2024)
EllapsedTime: 7.5 seconds
RetCode: 0
Status: OK