Package: KEGGgraph
Version: 1.64.0
Maintainer: Jitao David Zhang
MaintainerEmail: jitao_david.zhang at roche.com
git_url: https://git.bioconductor.org/packages/KEGGgraph
git_branch: RELEASE_3_19
git_last_commit: 3e02124
git_last_commit_date: 2024-04-30 10:19:20 -0400 (Tue, 30 Apr 2024)