Package: IntramiRExploreR
Version: 1.26.0
Command: chmod a+r IntramiRExploreR -R && E:\biocbuild\bbs-3.19-bioc\R\bin\R.exe CMD build --keep-empty-dirs --no-resave-data IntramiRExploreR
StartedAt: 2024-10-16 19:52:15 -0400 (Wed, 16 Oct 2024)
EndedAt: 2024-10-16 19:52:42 -0400 (Wed, 16 Oct 2024)
EllapsedTime: 26.3 seconds
RetCode: 0
Status: OK
PackageFile: IntramiRExploreR_1.26.0.tar.gz
PackageFileSize: 8.901 <A href="http://en.wikipedia.org/wiki/MiB" target="_blank">MiB</A>