Package: IntramiRExploreR
Version: 1.26.0
Command: /home/biocbuild/R/R-beta-2024-04-15_r86425/bin/R CMD build --keep-empty-dirs --no-resave-data IntramiRExploreR
StartedAt: 2024-05-09 01:08:58 -0000 (Thu, 09 May 2024)
EndedAt: 2024-05-09 01:09:25 -0000 (Thu, 09 May 2024)
EllapsedTime: 27.0 seconds
RetCode: 0
Status: OK
PackageFile: IntramiRExploreR_1.26.0.tar.gz
PackageFileSize: 8.901 <A href="http://en.wikipedia.org/wiki/MiB" target="_blank">MiB</A>