Package: ISAnalytics
Version: 1.14.0
Command: /home/biocbuild/bbs-3.19-bioc/R/bin/R CMD check --install=check:ISAnalytics.install-out.txt --library=/home/biocbuild/bbs-3.19-bioc/R/site-library --timings ISAnalytics_1.14.0.tar.gz
StartedAt: 2024-10-17 01:41:28 -0400 (Thu, 17 Oct 2024)
EndedAt: 2024-10-17 01:48:22 -0400 (Thu, 17 Oct 2024)
EllapsedTime: 413.9 seconds
RetCode: 1
Status: ERROR
CheckDir: ISAnalytics.Rcheck
Warnings: NA