Package: ISAnalytics
Version: 1.14.0
Command: rm -rf ISAnalytics.buildbin-libdir && mkdir ISAnalytics.buildbin-libdir && /Users/biocbuild/BBS/utils/build-universal.sh ISAnalytics_1.14.0.tar.gz /Library/Frameworks/R.framework/Resources/bin/R ISAnalytics.buildbin-libdir
StartedAt: 2024-06-11 11:43:54 -0400 (Tue, 11 Jun 2024)
EndedAt: 2024-06-11 11:44:42 -0400 (Tue, 11 Jun 2024)
EllapsedTime: 48.1 seconds
RetCode: 0
Status: OK
PackageFile: ISAnalytics_1.14.0.tgz
PackageFileSize: 5.216 <A href="http://en.wikipedia.org/wiki/MiB" target="_blank">MiB</A>