Package: IPO Version: 1.30.0 Command: E:\biocbuild\bbs-3.19-bioc\R\bin\R.exe CMD INSTALL IPO StartedAt: 2024-10-16 17:01:12 -0400 (Wed, 16 Oct 2024) EndedAt: 2024-10-16 17:02:03 -0400 (Wed, 16 Oct 2024) EllapsedTime: 50.4 seconds RetCode: 0 Status: OK