Package: IPO
Version: 1.30.0
Command: rm -rf IPO.buildbin-libdir && mkdir IPO.buildbin-libdir && E:\biocbuild\bbs-3.19-bioc\R\bin\R.exe CMD INSTALL --build --library=IPO.buildbin-libdir IPO_1.30.0.tar.gz
StartedAt: 2024-10-17 08:00:13 -0400 (Thu, 17 Oct 2024)
EndedAt: 2024-10-17 08:01:10 -0400 (Thu, 17 Oct 2024)
EllapsedTime: 57.3 seconds
RetCode: 0
Status: OK
PackageFile: IPO_1.30.0.zip
PackageFileSize: 495.7 <A href="http://en.wikipedia.org/wiki/KiB" target="_blank">KiB</A>