Package: IONiseR
Version: 2.28.0
Maintainer: Mike Smith
MaintainerEmail: grimbough at gmail.com
git_url: https://git.bioconductor.org/packages/IONiseR
git_branch: RELEASE_3_19
git_last_commit: d4e3dbc
git_last_commit_date: 2024-04-30 10:44:22 -0400 (Tue, 30 Apr 2024)