Package: IMPCdata
Version: 1.40.0
Maintainer: Jeremy Mason
MaintainerEmail: jmason at ebi.ac.uk
git_url: https://git.bioconductor.org/packages/IMPCdata
git_branch: RELEASE_3_19
git_last_commit: e00eec5
git_last_commit_date: 2024-04-30 10:40:05 -0400 (Tue, 30 Apr 2024)