Package: IFAA
Version: 1.6.0
Maintainer: Zhigang Li
MaintainerEmail: lzg2151 at gmail.com
git_url: https://git.bioconductor.org/packages/IFAA
git_branch: RELEASE_3_19
git_last_commit: 595146f
git_last_commit_date: 2024-04-30 11:46:14 -0400 (Tue, 30 Apr 2024)