Package: HilbertVisGUI Version: 1.62.0 Maintainer: Simon Anders MaintainerEmail: sanders at fs.tum.de git_url: https://git.bioconductor.org/packages/HilbertVisGUI git_branch: RELEASE_3_19 git_last_commit: b7863d2 git_last_commit_date: 2024-04-30 10:19:12 -0400 (Tue, 30 Apr 2024)