Package: HilbertVis
Version: 1.62.0
Command: /Library/Frameworks/R.framework/Resources/bin/R CMD check --install=check:HilbertVis.install-out.txt --library=/Library/Frameworks/R.framework/Resources/library --no-vignettes --timings HilbertVis_1.62.0.tar.gz
StartedAt: 2024-10-17 06:43:18 -0400 (Thu, 17 Oct 2024)
EndedAt: 2024-10-17 06:44:10 -0400 (Thu, 17 Oct 2024)
EllapsedTime: 51.2 seconds
RetCode: 0
Status: WARNINGS
CheckDir: HilbertVis.Rcheck
Warnings: 1