Package: HilbertVis Version: 1.62.0 Command: /Library/Frameworks/R.framework/Resources/bin/R CMD build --keep-empty-dirs --no-resave-data HilbertVis StartedAt: 2024-10-16 20:01:18 -0400 (Wed, 16 Oct 2024) EndedAt: 2024-10-16 20:02:02 -0400 (Wed, 16 Oct 2024) EllapsedTime: 44.7 seconds RetCode: 0 Status: OK PackageFile: HilbertVis_1.62.0.tar.gz PackageFileSize: 1.206 <A href="http://en.wikipedia.org/wiki/MiB" target="_blank">MiB</A>