Package: HiCBricks Version: 1.22.0 Maintainer: Koustav Pal MaintainerEmail: koustav.pal at ifom.eu git_url: https://git.bioconductor.org/packages/HiCBricks git_branch: RELEASE_3_19 git_last_commit: dceb449 git_last_commit_date: 2024-04-30 11:10:16 -0400 (Tue, 30 Apr 2024)