Package: Harman
Version: 1.32.0
Command: F:\biocbuild\bbs-3.19-bioc\R\bin\R.exe CMD check --no-multiarch --install=check:Harman.install-out.txt --library=F:\biocbuild\bbs-3.19-bioc\R\library --no-vignettes --timings Harman_1.32.0.tar.gz
StartedAt: 2024-06-27 02:29:05 -0400 (Thu, 27 Jun 2024)
EndedAt: 2024-06-27 02:30:59 -0400 (Thu, 27 Jun 2024)
EllapsedTime: 113.7 seconds
RetCode: 0
Status: OK
CheckDir: Harman.Rcheck
Warnings: 0