Package: Harman
Version: 1.32.0
Command: chmod a+r Harman -R && F:\biocbuild\bbs-3.19-bioc\R\bin\R.exe CMD build --keep-empty-dirs --no-resave-data Harman
StartedAt: 2024-06-26 19:25:57 -0400 (Wed, 26 Jun 2024)
EndedAt: 2024-06-26 19:30:50 -0400 (Wed, 26 Jun 2024)
EllapsedTime: 292.9 seconds
RetCode: 0
Status: OK
PackageFile: Harman_1.32.0.tar.gz
PackageFileSize: 843.2 <A href="http://en.wikipedia.org/wiki/KiB" target="_blank">KiB</A>